BEGIN:VCALENDAR
VERSION:2.0
PRODID:-//Tukios.com/
BEGIN:VEVENT
UID:e2cd1f36-fcbd-4444-ab7f-cc50b6bb344f@www.joycefuneralhome.com
DTSTAMP:20260422T040834Z
DTSTART:20260424T150000Z
DTEND:20260424T160000Z
SUMMARY:Funeral Service
DESCRIPTION:
URL:https://www.joycefuneralhome.com/obituaries/jane-mceachern
LOCATION: 580 Mt Auburn St  Cambridge MA 02138
GEO:42.3750103;-71.1445267
END:VEVENT
END:VCALENDAR