BEGIN:VCALENDAR
VERSION:2.0
PRODID:-//Tukios.com/
BEGIN:VEVENT
UID:19ce9f08-04b4-47da-99dc-457e72331046@www.joycefuneralhome.com
DTSTAMP:20260422T041555Z
DTSTART:20260423T200000Z
DTEND:20260423T230000Z
SUMMARY:Evening Wake
DESCRIPTION:
URL:https://www.joycefuneralhome.com/obituaries/jane-mceachern
LOCATION: 245 Main St  Waltham MA 02453
GEO:42.3774398;-71.2187882
END:VEVENT
END:VCALENDAR