BEGIN:VCALENDAR
VERSION:2.0
PRODID:-//Tukios.com/
BEGIN:VEVENT
UID:bcbf8db4-f3a9-419a-8992-eca740311300@www.joycefuneralhome.com
DTSTAMP:20260423T002803Z
DTSTART:20260430T140000Z
DTEND:20260430T150000Z
SUMMARY:Funeral Mass
DESCRIPTION:
URL:https://www.joycefuneralhome.com/obituaries/james-hayes
LOCATION: 880 Trapelo Rd  Waltham MA 02452
GEO:42.4084621;-71.2289759
END:VEVENT
END:VCALENDAR