BEGIN:VCALENDAR
VERSION:2.0
PRODID:-//Tukios.com/
BEGIN:VEVENT
UID:d3655660-57bc-483d-8348-7114a5ab625e@www.joycefuneralhome.com
DTSTAMP:20260423T002452Z
DTSTART:20260429T200000Z
DTEND:20260429T230000Z
SUMMARY:Evening Wake
DESCRIPTION:
URL:https://www.joycefuneralhome.com/obituaries/james-hayes
LOCATION: 245 Main St.  Waltham MA 02453
GEO:42.3774698;-71.2188012
END:VEVENT
END:VCALENDAR