BEGIN:VCALENDAR
VERSION:2.0
PRODID:-//Tukios.com/
BEGIN:VEVENT
UID:9e1ce6f3-1d58-4bcc-9e7d-ff8411f9880e@www.joycefuneralhome.com
DTSTAMP:20260422T220537Z
DTSTART:20260429T140000Z
DTEND:20260429T150000Z
SUMMARY:Funeral Mass
DESCRIPTION:
URL:https://www.joycefuneralhome.com/obituaries/deborah-bigham
LOCATION: 142 Lincoln Rd  Lincoln MA 01773
GEO:42.4145838;-71.3241452
END:VEVENT
END:VCALENDAR